BEGIN:VCALENDAR
VERSION:2.0
PRODID:-//Tukios.com/
BEGIN:VEVENT
UID:2e777e06-3b7c-4705-9915-b476e7fbdcdd@www.mccombsfuneralhome.com
DTSTAMP:20260420T091303Z
DTSTART:20260420T160000Z
DTEND:20260420T170000Z
SUMMARY:Funeral Service
DESCRIPTION:
URL:https://www.mccombsfuneralhome.com/obituaries/alvie-lummus
LOCATION: 640 W Independence St  Jackson MO 63755
GEO:37.3941001;-89.6742401
END:VEVENT
END:VCALENDAR