BEGIN:VCALENDAR
VERSION:2.0
PRODID:-//Tukios.com/
BEGIN:VEVENT
UID:61ec9452-58e7-41c5-bbe8-36f21f072261@www.mccombsfuneralhome.com
DTSTAMP:20260425T161609Z
DTSTART:20260428T140000Z
DTEND:20260428T160000Z
SUMMARY:Visitation
DESCRIPTION:
URL:https://www.mccombsfuneralhome.com/obituaries/gina-reisenbichler
LOCATION:Zion Lutheran Church - Pocahontas 286 Pocahontas Main Street  
	Pocahontas MO 63779
GEO:37.501014;-89.6422127
END:VEVENT
END:VCALENDAR