BEGIN:VCALENDAR
VERSION:2.0
PRODID:-//Tukios.com/
BEGIN:VEVENT
UID:6f62c67e-5ca1-4b97-823f-2e5c37ade51c@www.mccombsfuneralhome.com
DTSTAMP:20260425T161636Z
DTSTART:20260428T160000Z
DTEND:20260428T164500Z
SUMMARY:Funeral Service
DESCRIPTION:
URL:https://www.mccombsfuneralhome.com/obituaries/gina-reisenbichler
LOCATION:Zion Lutheran Church - Pocahontas 286 Pocahontas Main Street  
	Pocahontas MO 63779
GEO:37.501014;-89.6422127
END:VEVENT
END:VCALENDAR