BEGIN:VCALENDAR
VERSION:2.0
PRODID:-//Tukios.com/
BEGIN:VEVENT
UID:832a5bfc-71c4-4f1c-bd0b-b86d8e32bc0d@www.mccombsfuneralhome.com
DTSTAMP:20260425T161706Z
DTSTART:20260428T164500Z
DTEND:20260428T170000Z
SUMMARY:Burial
DESCRIPTION:
URL:https://www.mccombsfuneralhome.com/obituaries/gina-reisenbichler
LOCATION:Zion Lutheran Cemetery-Pocahontas, Mo 286 Pocahontas Main Street 
	 Pocahontas MO 63779
GEO:37.501014;-89.6422127
END:VEVENT
END:VCALENDAR