BEGIN:VCALENDAR
VERSION:2.0
PRODID:-//Tukios.com/
BEGIN:VEVENT
UID:e9d042f8-5313-4a9c-866a-ad64680a65d7@www.mccombsfuneralhome.com
DTSTAMP:20260421T024448Z
DTSTART:20260427T160000Z
DTEND:20260427T170000Z
SUMMARY:Funeral Service
DESCRIPTION:
URL:https://www.mccombsfuneralhome.com/obituaries/jerry-wilke
LOCATION: 223 W Adams St  Jackson MO 63755
GEO:37.381689;-89.669315
END:VEVENT
END:VCALENDAR