BEGIN:VCALENDAR
VERSION:2.0
PRODID:-//Tukios.com/
BEGIN:VEVENT
UID:d9da16b5-93ca-4a0b-8b9b-3174d80f742d@www.mccombsfuneralhome.com
DTSTAMP:20260421T024753Z
DTSTART:20260427T164500Z
DTEND:20260427T174500Z
SUMMARY:Burial
DESCRIPTION:
URL:https://www.mccombsfuneralhome.com/obituaries/jerry-wilke
LOCATION: 435 S Farmington Rd  Jackson MO 63755
GEO:37.3791074;-89.6786226
END:VEVENT
END:VCALENDAR