BEGIN:VCALENDAR
VERSION:2.0
PRODID:-//Tukios.com/
BEGIN:VEVENT
UID:4ecfc9a0-9ccc-4bba-87e2-5c4e0fd6274d@www.mccombsfuneralhome.com
DTSTAMP:20260421T024123Z
DTSTART:20260426T200000Z
DTEND:20260427T000000Z
SUMMARY:Visitation
DESCRIPTION:
URL:https://www.mccombsfuneralhome.com/obituaries/jerry-wilke
LOCATION: 640 W Independence St  Jackson MO 63755
GEO:37.3941466;-89.6742771
END:VEVENT
END:VCALENDAR