BEGIN:VCALENDAR
VERSION:2.0
PRODID:-//Tukios.com/
BEGIN:VEVENT
UID:4d26ad17-dc49-4676-bc43-4fccfc350733@www.mccombsfuneralhome.com
DTSTAMP:20260421T024641Z
DTSTART:20260427T150000Z
DTEND:20260427T160000Z
SUMMARY:Visitation
DESCRIPTION:
URL:https://www.mccombsfuneralhome.com/obituaries/jerry-wilke
LOCATION: 223 W Adams St  Jackson MO 63755
GEO:37.381689;-89.669315
END:VEVENT
END:VCALENDAR