BEGIN:VCALENDAR
VERSION:2.0
PRODID:-//Tukios.com/
BEGIN:VEVENT
UID:9ce15db0-bd24-4161-ae7c-1a0f788f2449@www.mccombsfuneralhome.com
DTSTAMP:20260423T011733Z
DTSTART:20260425T150000Z
DTEND:20260425T154500Z
SUMMARY:Funeral Service
DESCRIPTION:
URL:https://www.mccombsfuneralhome.com/obituaries/jimmie-dace
LOCATION:New McKendree United Methodist Church 225 South High Street  
	Jackson MO 63755
GEO:37.3808303;-89.6682213
END:VEVENT
END:VCALENDAR