BEGIN:VCALENDAR
VERSION:2.0
PRODID:-//Tukios.com/
BEGIN:VEVENT
UID:4457dd28-7b65-4ad1-ada0-eb5c74a40f94@www.mccombsfuneralhome.com
DTSTAMP:20260423T011355Z
DTSTART:20260424T210000Z
DTEND:20260425T000000Z
SUMMARY:Visitation
DESCRIPTION:
URL:https://www.mccombsfuneralhome.com/obituaries/jimmie-dace
LOCATION:New McKendree United Methodist Church 225 South High Street  
	Jackson MO 63755
GEO:37.3808303;-89.6682213
END:VEVENT
END:VCALENDAR