BEGIN:VCALENDAR
VERSION:2.0
PRODID:-//Tukios.com/
BEGIN:VEVENT
UID:da3296ce-20d4-4327-8da7-a29b7ddf3b1c@www.mccombsfuneralhome.com
DTSTAMP:20260423T011355Z
DTSTART:20260425T143000Z
DTEND:20260425T150000Z
SUMMARY:Visitation
DESCRIPTION:
URL:https://www.mccombsfuneralhome.com/obituaries/jimmie-dace
LOCATION:New McKendree United Methodist Church 225 South High Street  
	Jackson MO 63755
GEO:37.3808303;-89.6682213
END:VEVENT
END:VCALENDAR