BEGIN:VCALENDAR
VERSION:2.0
PRODID:-//Tukios.com/
BEGIN:VEVENT
UID:b54a38f4-f42e-420f-8114-356457318dc3@www.mccombsfuneralhome.com
DTSTAMP:20260423T011405Z
DTSTART:20260425T200000Z
DTEND:20260425T201500Z
SUMMARY:Graveside Service
DESCRIPTION:
URL:https://www.mccombsfuneralhome.com/obituaries/jimmie-dace
LOCATION:IOOF Cemetery North Church Street  Sullivan MO 63080
GEO:38.2183041;-91.1631315
END:VEVENT
END:VCALENDAR