BEGIN:VCALENDAR
VERSION:2.0
PRODID:-//Tukios.com/
BEGIN:VEVENT
UID:37918382-b7eb-4e5c-8181-eecb01e621c3@www.mccombsfuneralhome.com
DTSTAMP:20260422T221633Z
DTSTART:20260424T150000Z
DTEND:20260424T163000Z
SUMMARY:Memorial Visitation
DESCRIPTION:
URL:https://www.mccombsfuneralhome.com/obituaries/shane-goodwin
LOCATION: 640 W Independence St  Jackson MO 63755
GEO:37.3941001;-89.6742401
END:VEVENT
END:VCALENDAR